BEGIN:VCALENDAR
VERSION:2.0
PRODID:-//Clear Sky Meditation Centre - ECPv6.15.19//NONSGML v1.0//EN
CALSCALE:GREGORIAN
METHOD:PUBLISH
X-ORIGINAL-URL:https://www.clearskycenter.org
X-WR-CALDESC:Events for Clear Sky Meditation Centre
REFRESH-INTERVAL;VALUE=DURATION:PT1H
X-Robots-Tag:noindex
X-PUBLISHED-TTL:PT1H
BEGIN:VTIMEZONE
TZID:America/Chicago
BEGIN:DAYLIGHT
TZOFFSETFROM:-0600
TZOFFSETTO:-0500
TZNAME:CDT
DTSTART:20200308T080000
END:DAYLIGHT
BEGIN:STANDARD
TZOFFSETFROM:-0500
TZOFFSETTO:-0600
TZNAME:CST
DTSTART:20201101T070000
END:STANDARD
BEGIN:DAYLIGHT
TZOFFSETFROM:-0600
TZOFFSETTO:-0500
TZNAME:CDT
DTSTART:20210314T080000
END:DAYLIGHT
BEGIN:STANDARD
TZOFFSETFROM:-0500
TZOFFSETTO:-0600
TZNAME:CST
DTSTART:20211107T070000
END:STANDARD
BEGIN:DAYLIGHT
TZOFFSETFROM:-0600
TZOFFSETTO:-0500
TZNAME:CDT
DTSTART:20220313T080000
END:DAYLIGHT
BEGIN:STANDARD
TZOFFSETFROM:-0500
TZOFFSETTO:-0600
TZNAME:CST
DTSTART:20221106T070000
END:STANDARD
END:VTIMEZONE
BEGIN:VTIMEZONE
TZID:America/Edmonton
BEGIN:DAYLIGHT
TZOFFSETFROM:-0700
TZOFFSETTO:-0600
TZNAME:MDT
DTSTART:20200308T090000
END:DAYLIGHT
BEGIN:STANDARD
TZOFFSETFROM:-0600
TZOFFSETTO:-0700
TZNAME:MST
DTSTART:20201101T080000
END:STANDARD
BEGIN:DAYLIGHT
TZOFFSETFROM:-0700
TZOFFSETTO:-0600
TZNAME:MDT
DTSTART:20210314T090000
END:DAYLIGHT
BEGIN:STANDARD
TZOFFSETFROM:-0600
TZOFFSETTO:-0700
TZNAME:MST
DTSTART:20211107T080000
END:STANDARD
BEGIN:DAYLIGHT
TZOFFSETFROM:-0700
TZOFFSETTO:-0600
TZNAME:MDT
DTSTART:20220313T090000
END:DAYLIGHT
BEGIN:STANDARD
TZOFFSETFROM:-0600
TZOFFSETTO:-0700
TZNAME:MST
DTSTART:20221106T080000
END:STANDARD
END:VTIMEZONE
BEGIN:VEVENT
DTSTART;TZID=America/Chicago:20210403T100000
DTEND;TZID=America/Chicago:20210508T110000
DTSTAMP:20260419T221902
CREATED:20201109T051751Z
LAST-MODIFIED:20251209T101746Z
UID:9106-1617444000-1620471600@www.clearskycenter.org
SUMMARY:Money & Spirituality: Integrating Spiritual and Material (Online)
DESCRIPTION:A Six-week Online Course with Karen McAllister\nApril 3 – May 8\, 2021 \nSaturdays at 10:00am MT \nClick here to see your timezone \nThis course is about healing the split between money and spirituality and integrating your vision and calling into your everyday work. Through this course\, you will come to a place of peace\, power\, and care in your heart in your relationship with money. \nIt is about integrating the spiritual with the material\, or the material with the spiritual\, depending on where your journey begins. \nWhat this means for you\nWorking with your relationship with money is more than just seeing your patterns and recurring behaviours around it. \nMoney is a nexus that is the doorway into greater integration. All of us have some sort of knot around money. By going into that knot\, we can attend to all of these bigger things like the shadow\, dreams\, vision\, values\, priorities\, and awakening. \nWe are inviting you to join us to release these complicated and layered knots around money and allow yourself to let go the dam of resistance\, shame\, guilt\, superiority\, privilege\, and fear. To have the courage to look at your projections onto money and be on your way to a place of integration between the material and the spiritual. \nWe want you to be lighter\, brighter and to give and attract the amount of money you need to manifest your purpose. \n\nRegister Now\n\n\n\n \nDo any of these 8 knots sound like you?\n\nYou might be very passionate about your work as an artist\, teacher\, healer\, in business\, or as a transformational change agent. Yet you seem to repel the very resources that you need. Somehow embracing the money thing is felt as inauthentic to your values or being evil on some level. Is it truly noble to be a starving artist or a martyr?\nPerhaps you feel money is elusive and you never seem to have it\, or when it comes in it leaves very quickly. You may feel that you and money just don’t seem to have any relationship at all. Or you don’t feel you are good with it. You might be looking for that Prince Charming\, or a protector to turn up and make it all better for you. Or maybe\, you feel that money should just come because you are devoting your life to a worthy cause or to your awakening. Shouldn’t I just trust in the universe that the money comes? Yet\, it doesn’t.\nPerhaps you over give\, undervalue yourself in your organization\, non-profit or in partnerships\, either in marriage or in business. You might expect others to read your mind and know how to support you\, and they don’t. You might have the experience of feeling unseen\, burnt out\, with health and money issues calling for your attention.\nOr your family may have money but you don’t\, giving you mixed experiences of privilege and scarcity; you may try to help others experience more abundance and feel that your efforts are rejected;  or your efforts to be generous may leave you feeling taken advantage of or dismissed.\nYou might be a person with wealth and/or worldly success. In spite of this\, you might feel ostracized by the very people you want to help. You might not feel so cared for or maybe even feel like an outsider by those in the spiritual or transformational world or with a mission-based business. What is this about?\nYou may have mixed feelings about having money\, as a spiritual explorer. Perhaps you have come into money without being introduced to the skills to handle it skillfully\, both practically and psychologically.\nOr perhaps you feel overwhelmed with fear of losing money\, even though you have enough of it. Your fear of loss might keep you paralyzed and stuck from making decisions that are more in alignment with your heart and your own awakening.\nYou might feel guilty about having money and find that trusting yourselves and others is an ongoing challenge. You might not like the distance that money causes between you and others.\n\nIntegrating Spiritual and Material\nWhat to Expect: \n\nAs a global human being\, get an overview of our history with money;\nUnderstand what spirituality means in the workplace and in your relationships;\nExplore what integrating the spiritual and material would look like for you;\nName your particular patterns around money\, at work\, in your personal finances or in partnership;\nUnderstand what a healthy relationship to money looks like;\nCreate an action plan to change self-sabotaging patterns;\nLearn how to be a role model of financial maturity for others;\nFeel more open\, empowered\, and confident in your relationship with money.\n\n\n \nMeet your Teacher\n \nKaren McAllister \nKaren has worked with clients to transform their money issues\, helping them become more effective\, professional\, and satisfied with their financial situation\, and growing a sense of abundance. She brings knowledge and experience of financial issues from the practical\, behavioral\, and emotional perspectives. Her real magic and superpowers come from studying with her spiritual teachers\, Acariya Doug Duncan and Catherine Pawasarat Sensei\, for over 20 years. Her teachers specialize in helping their students transcend their issues around money\, sex\, and power. And she is a beautiful example of the fruits of this work\, known in Buddhist philosophy as the bodhisattva path. \nKaren studied Economics in her degree and has been certified by Deborah Price of the The Money Coaching Institute as a Certified Money Coach\, a Couples Money Coach\, and a Business Archetype Coach. She studied with Lynne Twist from the Soul of Money Institute\, including Mastering your Money and Transforming your Life\, and Lynne’s Fundraising from the Heart program. \nFurther\, Karen has made use of that training through her own role as a founding member at Clear Sky\, which operates with a quadruple bottom line. Karen has been Board Chair since 2014 and is leader of Fund Development. Her passion for this arises out of her deep desire to awaken more fully and make the world a better place. She’s seen many amazing spiritual explorers and transformational change agents who want to make a difference yet don’t have the funds they need to truly fulfill their missions–despite the millions of dollars floating around in the economy. And she has also seen the other side. Many spiritual explorers with money who have tried to help others experience more abundance and feel that their efforts have been rejected; or their efforts to be generous have left them feeling taken advantage of or dismissed. Karen’s work is designed to change this. \nKaren wants you to show up as an integrated and whole human being. She’ll help you direct and attract financial resources in meaningful ways\, steering away from greed and fear and towards love\, generosity\, collaboration\, and reciprocity. \nCourse Details\n\nLocation: Online (Zoom)\nDates: April 3 – May 8\, 2021\nTime: 10:00am MT\nDana: $450CAD – $900CAD recommended range.\nPlease chat with us if you have concerns about the cost. Part of taking the money out of the shadow is stepping forward and having a pricing conversation with us.\n\nThis course is Dana based. We understand that your income might be effected due to COVID either negatively or positively. We do not want to turn anyone anyway\, and we are always looking for ways to help you cultivate your generosity practise. Because of this\, we are giving you the opportunity to give the lower rate if you are earning less currently\, or we encourage to give the higher rate if your business is actually more profitable due to COVID. Many people feel guilty because they are doing well. We encourage you to think about paying it forward.\nThere is also an opportunity to give to the scholarship fund.\n\n\nRegister Now\n\nKaren is such a talented guide. She has the ability to see what you are not seeing and to sense that\, what is not spoken. I felt very safe with her\, to go deep into unexplored areas of my life. She is picking you up\, where you are and takes you on an adventurous journey that is life changing.\nThank you Karen.\nAndreaGermany\nI signed up for a series of Money Coaching sessions with Karen last year along with a team of people I work closely with. I truly believe this was the best thing we could have done. The sessions with Karen provided us with a clear\, safe and supportive place to talk\, open up and work through what was coming up for each of us.\nKaren offered us deep insights on many levels and the generosity of her time\, both inside and outside the sessions. She invested as much in the process as we did. The benefits that it brings are significant – on an interpersonal as well as financial level.\nZoeEngland
URL:https://www.clearskycenter.org/event/money-spirituality-online/
LOCATION:Clear Sky Meditation Center\, 3567 Cockell Road\, PO BOX 19\, Fort Steele\, British Columbia\, V0B 1NO\, Canada
CATEGORIES:Coaching,Online Courses
ATTACH;FMTTYPE=image/jpeg:https://www.clearskycenter.org/wp-content/uploads/2020/11/money-and-spirituality-feature.jpg
ORGANIZER;CN="Clear Sky Center":MAILTO:contact@clearskycenter.org
END:VEVENT
BEGIN:VEVENT
DTSTART;TZID=America/Chicago:20210517T193000
DTEND;TZID=America/Chicago:20210607T210000
DTSTAMP:20260419T221902
CREATED:20210102T192934Z
LAST-MODIFIED:20251209T095123Z
UID:9216-1621279800-1623099600@www.clearskycenter.org
SUMMARY:Discovering Your Buddha Nature: Teachings of Gampopa (Online)
DESCRIPTION:An Online Course\nMay 17 – June 7th\, 2021\nMondays: 7:30pm-9:00pm MDT *Click here to see your timezone \nRecordings available for those who cannot attend live\nBonus: Optional Master Class Q&A on Sundays and a Flash Retreat May 28 – 30 \nThe Jewel Ornament of Liberation was written by Gampopa (1074-1153 C.E.).  He shares how all beings have the same essence of Buddha Nature.  How does one realize this? He shares a path. \n\nRegister Now\n\n \nGems of Dharma\ne Gampopa\, Dagpo Rinpoche\, Sonam RinchenSource: Dakini Translations\nGampopa named this contradiction: we both dwell in an amazing human existence with enlightened essence\, while also wandering through the worlds of struggle and suffering. \nWhat is the path through this paradox\, then? In this course\, we will study realities of samsara and nirvana\, based on Gampopa’s Jewel Ornament of Liberation. \nWe also learn that to be more than who we currently are\, we need to understand more than we currently do. How do we understand cause and effect? What is the role of loving kindness and compassion? \nGampopa with 1st Karmapa\, Dusum Khyenpa. Source: Dakini Translations\nCourse Schedule\nStarts May 17\, 2021\nPLEASE NOTE to deepen and integrate your experience\, we are offering three optional weekly Master Classes during the course and an at-home Flash Retreat at the end. See below for more details. \nClass 1 – Monday\, May 17\, 2021\nHow do we get enlightened? Why wouldn’t we? Gampopa explains different kinds of potential for enlightenment\, and the features of how exactly a precious human existence is the fertile ground for awakening. With this cause and basis for enlightenment\, we look at what a practitioner needs next: a guide. What are the reasons for having a mentor\, and what’s the nature of this relationship?. \nClass 2 – Monday\, May 24\, 2021\nWe review Gampopa’s (and our) perspective on some of the most fundamental aspects of our path: the nature of karma\, the importance of loving kindness and compassion\, and the essential nature of proper refuge. What do these look like in our practice and in our daily lives? We also explore bodhicitta\, the innate potential of a human being to awaken. Sometimes it’s called the desire to awaken: how can we cultivate this? Lastly\, what is the Bodhisattva Vow\, and how do we practice it? \nClass 3 – Monday\, May 31\, 2021\nThe meditations on the Paramita—Six Perfections or Buddhist Virtues—are easily summarized\, but their practice involves a lifetime of living each one more deeply. We look at Gampopa’s descriptions of each Parami (translated here as generosity\, right conduct\, forbearance\, diligence\, meditation\, and wisdom)\, and describe how we can practice them meaningfully in our contemporary lives. This helps us to both awaken further and benefit all beings more. \nClass 4 – Monday\, June 7\, 2021\nOur spiritual paths have different phases: what are they and how do we recognize the road signs? Since we’re practicing the bodhisattva path\, we’ll enrich our experience by getting to know its 10 levels\, and what lies beyond those: Buddhahood. How does a Buddha show up in the universe\, in the different realms? As practitioners we make efforts to benefit all beings; how do Buddhas do it? \n\n \nStudy and Meditation Electives \nMaster Classes – Three Sundays\nThere are weekly Master Classes (akin to online Q&A Office Hours) during this online course to support your deepening learning and practice\, on the following dates at 3pm MST: \n\nSun. May 23\nSun. May 30\nSun. June 6\n\nYou can elect to attend all three or individual dates. \nRegistration & Dana links for Master Classes will be accessible to you when you register for the course. \n \nFlash Retreat\nJune 11-13\, 2021\nElect to deepen your practice via a Flash Retreat during the last weekend of this course.  The retreat provides practitioners a valuable opportunity to integrate and seal the learnings from the online course\, in a format well suited for our contemporary lives. \nThe retreat will include instructions\, online check ins\, and a Master Class on Sunday\, May 30. \nWe encourage you to attend this weekend retreat at Clear Sky Centre\, or together with your local sangha\, or if those not available to you\, in your home. \nRegistration and Dana links for the Flash Retreat will be accessible to you when you register for the course. \n\n\nRegister Now\n \nSangha power – consider organizing or joining regional in-person or online sangha groups to support one another during the online courses and Flash Retreats.  \nMeet Your Teachers\nDoug Duncan and Catherine Pawasarat are Dharma and meditation teachers who founded Clear Sky Meditation Centre\, BC\, Canada. \nAchariya Doug Duncan received lay ordination from Namgyal Rinpoche in 1978\, and is a lineage holder in that teaching. Known for his direct\, humourous and compassionate engagement with students\, Doug embraces various traditions\, contemporary psychology\, and science\, to mentor all beings to a more awakened state. \nCatherine Pawasarat has trained daily with Acariya Doug Duncan since 1998 in an intensive spiritual apprenticeship that is rare in the modern West. She received lay ordination from Namgyal Rinpoche in 2003. In addition to Buddhist philosophy and its applications to daily life\, Catherine also draws on generative living and the arts. With Doug she is co-founder of Clear Sky Retreat Center in the BC Rockies. \n \nCatherine Pawasarat Sensei\n \nDoug Duncan Sensei\nCourse Details\nTime and Location\nEach of the four weekly classes in this online course will be video streamed live at 7:30pm MST. The recording will be available for one week after each class. \nStudy and Meditation Opportunities in addition to the classes include Master Classes on three Sundays at 3pm MST\, and a Flash Retreat on June 11-13\, 2021. \nWhat Does the Course Cost?\nWe offer this course on the basis of dāna\, as well as an admin fee of $100 (USD). The admin is to cover the costs of running these online courses – for equipment and software to provide you the teachings online. \nFor our teachings itself – You may have come across this is the form of “pay from the heart”. Dāna is a Sanskrit term meaning “generosity”. With dāna\, we give as a mutual exchange of generosity. It’s our joy to offer this course\, and we trust you’ll match our time\, energy\, and passion by giving an amount of money that feels good and healthy to both you and us. We suggest a range between $120 and $500 for this four week course. \n\n\nRegister Now
URL:https://www.clearskycenter.org/event/discovering-your-buddha-nature/
CATEGORIES:Online Courses
ATTACH;FMTTYPE=image/jpeg:https://www.clearskycenter.org/wp-content/uploads/2021/01/Discovering-your-Buddha-Nature-feautre.jpg
END:VEVENT
BEGIN:VEVENT
DTSTART;TZID=America/Edmonton:20210527T170000
DTEND;TZID=America/Edmonton:20210527T180000
DTSTAMP:20260419T221902
CREATED:20210415T154712Z
LAST-MODIFIED:20251205T084805Z
UID:10129-1622134800-1622138400@www.clearskycenter.org
SUMMARY:Buddhist Women in the 2020’s (Introduction)
DESCRIPTION:Stepping into greater awakening potential\nA Free Online Talk\nMay 27\, 2021\n5:00pm-6:00pm MDT  \n*Click here to see your timezone \nWhile there may be frustration\, grief and rage about historical gender inequity in Buddhism\, we can use Buddhist methodologies to transform these conflicting emotions into greater compassion and wisdom. \nJoin Catherine Pawasarat Sensei for this talk\, hosted by Menla\, on how we can adapt and shift our traditional perceptions of gender as Buddhist practitioners. \nImage: Thangka of Yeshe Tsogyal\, fully awakened consort of Padmasambhava.  © C. Pawasarat \n\n\nRegister Now\n \nPhoto © D. Steinbock\nGender Perceptions in the Buddhist World in the 2020’s\nJoin Catherine Pawasarat Sensei for this one hour class\, a prelude to her weekend course Buddhist Women in the 2020’s. \nclassic Buddhist teachings emerge in the global mainstream\, it adapts to cultures where women enjoy relative equality with men. In such contexts many practitioners may naturally feel that women and men have the same opportunities to awaken. \nHistorically\, however\, birth in a female body was considered the result of bad karma\, and the lowest and youngest monks enjoyed greater formal status than the most realized nun. Western women and men are unlikely to embrace this part of Buddhist tradition. \nThis confluence of cultures presents a transition ripe with opportunity. While there may be frustration\, grief and rage about historical gender inequity in Buddhism\, we can use Buddhist methodologies to transform these conflicting emotions into greater compassion and wisdom. \nCatherine Pawasarat Sensei\, a contemporary dharma teacher\, attendant\, consort\, co-teacher via Planet Dharma and co-founder of Clear Sky Retreat Center shares her unique views\, experience\, and practices regarding this contemporary and planetary Triple Gem. \nTime: 5-6pm MST / 7-8PM EST\nLocation: Online \nMeet Your Teacher\nCatherine Pawasarat Sensei\nCatherine Pawasarat was a student of metaphysics\, Western spiritual traditions\, and the ayahuasca sacraments in the 1990s. She worked as an advocacy photojournalist and studied traditional Japanese arts in Kyoto\, Japan for 20 years. \nSince 1998 she has trained daily with Buddhist teacher Achariya Doug Duncan in an intensive spiritual apprenticeship that’s rare in the modern West. Transmitted from the remarkable Namgyal Rinpoche\, they are both lineage holders of these teachings. \nWith Doug\, she is co-founder and resident teacher at Clear Sky Retreat Center in the British Columbia Rockies. There Catherine has spearheaded an innovative and sustainability-oriented culture and organization. Together Doug and Catherine also teach through a virtual vehicle\, Planet Dharma. In 2018 they wrote the best-selling book Wasteland to Pureland. \nCatherine has recently written and published the first English guidebook to Kyoto’s famous Gion Festival\, a gigantic collection of ancient and diverse spiritual rituals. \n \nCatherine Pawasarat Sensei\n \nCourse Details\nFees and Dāna\nThis talk is hosted by Menla Online free of charge. \nWe also invite you to practice generosity\, or Dāna  to Catherine Sensei directly here: Offer Dāna  \nRegistration\nTo attend\, please register via the button below. This free talk and the full course\, Buddhist Women in the 2020’s (June 4-6\, 2021)\, are both hosted by Menla Online. \n\nRegister Now
URL:https://www.clearskycenter.org/event/buddhist-women-2020s-menla-talk/
LOCATION:Online
CATEGORIES:Online Courses
ATTACH;FMTTYPE=image/png:https://www.clearskycenter.org/wp-content/uploads/2021/04/Screen-Shot-2021-05-08-at-5.24.24-PM.png
ORGANIZER;CN="Clear Sky Center":MAILTO:contact@clearskycenter.org
END:VEVENT
END:VCALENDAR