BEGIN:VCALENDAR
VERSION:2.0
PRODID:-//Clear Sky Meditation Centre - ECPv6.15.19//NONSGML v1.0//EN
CALSCALE:GREGORIAN
METHOD:PUBLISH
X-WR-CALNAME:Clear Sky Meditation Centre
X-ORIGINAL-URL:https://www.clearskycenter.org
X-WR-CALDESC:Events for Clear Sky Meditation Centre
REFRESH-INTERVAL;VALUE=DURATION:PT1H
X-Robots-Tag:noindex
X-PUBLISHED-TTL:PT1H
BEGIN:VTIMEZONE
TZID:America/Chicago
BEGIN:DAYLIGHT
TZOFFSETFROM:-0600
TZOFFSETTO:-0500
TZNAME:CDT
DTSTART:20200308T080000
END:DAYLIGHT
BEGIN:STANDARD
TZOFFSETFROM:-0500
TZOFFSETTO:-0600
TZNAME:CST
DTSTART:20201101T070000
END:STANDARD
BEGIN:DAYLIGHT
TZOFFSETFROM:-0600
TZOFFSETTO:-0500
TZNAME:CDT
DTSTART:20210314T080000
END:DAYLIGHT
BEGIN:STANDARD
TZOFFSETFROM:-0500
TZOFFSETTO:-0600
TZNAME:CST
DTSTART:20211107T070000
END:STANDARD
BEGIN:DAYLIGHT
TZOFFSETFROM:-0600
TZOFFSETTO:-0500
TZNAME:CDT
DTSTART:20220313T080000
END:DAYLIGHT
BEGIN:STANDARD
TZOFFSETFROM:-0500
TZOFFSETTO:-0600
TZNAME:CST
DTSTART:20221106T070000
END:STANDARD
END:VTIMEZONE
BEGIN:VEVENT
DTSTART;TZID=America/Chicago:20210313T090000
DTEND;TZID=America/Chicago:20210313T160000
DTSTAMP:20260420T001533
CREATED:20210220T192718Z
LAST-MODIFIED:20251209T100805Z
UID:9744-1615626000-1615651200@www.clearskycenter.org
SUMMARY:Come to your Senses: A Day to Practice Deep Mindfulness (Online)
DESCRIPTION:An Alive Mindfully Course with Maureen Smith & Dean Nicholson\nMarch 13\, 2021\n9:00am-4:00pm MDT \nClick here to see your timezone \n \nLife is busy.  Every day you face demands from work\, family\, finances\, health.  While navigating through life’s daily challenges it can be difficult to pause and take a breath\, to smell the roses\, to rest in the moment. \n\nRegister Now\n \nWe are delighted to share this course that is being offered in collaboration with our friends at Alive Mindfully. \n \nWhether you work in the healthcare field or the business world.\nWhether you are self-employed or work in a large organization.\nWhether you are part of a family or are living alone.\nIf you want to learn skills to be sustained and nurtured in the work you do\, this one day\, 7 hour online retreat is for you.  In one day you will learn how to release tension in your system and gain calm through focused concentration.\n \nCourse Details\nWhat you can expect\nIn this course you will:\n\n\nLearn ancient and effective practices that use the senses of taste\, touch\, sight and sound.  Practices you can use anywhere to tune into your senses and develop Deep Mindfulness.\n\n\nBe with others who share similar concerns and challenges and who also want to stay centered within themselves.\n\n\nBecome more aware of how to maintain health and wellbeing in yourself.\n\n\n\n\n \nMeet your Teachers\n\n \nMaureen Smith \nA Registered Clinical Social Worker\, Maureen has been a Mental Health and Substance Use Counsellor for over 9 years and previously worked in Hospice and Palliative Care.   She is a Mindfulness Based Stress Reduction (MBSR) facilitator and meditation teacher. \nSince 2005\, Maureen has been a resident and co-manager of the Clear Sky Retreat Center.  For over 20 years Maureen has been studying meditation and mindfulness with awakening masters Doug Duncan Sensei and Catherine Pawasarat Sensei.   Maureen gets excited finding ways to blend her spiritual and professional work life in a delicately woven tapestry.  Her life’s purpose is exploring consciousness and gaining wisdom into human nature in order to support people to grow into fully developed human beings. \nDuring her time-out relaxation moments\, Maureen enjoys gazing at the sky through leaves on tree branches\, hiking\, creating art and reading. \nDean Nicholson \nDean has a Masters in Counselling Psychology.  He is the Executive Director of East Kootenay Addiction Services Society with over 30 years clinical counselling experience in health care.  Dean has facilitated hundreds of therapy groups\, is an educator and popular speaker.   He has also conducted cutting edge research on substance use and trauma\, and has presented at national and international conferences. \nA meditation practitioner and resident at the Clear Sky Meditation Center\, Dean is a student of Doug Duncan Sensei and Catherine Pawasarat Sensei. Dean actively lives the healing practices he teaches his clients. \nFor fun Dean enjoys music\, film and literature\, and exploring the natural history of the East Kootenay area. \n \nCourse Details\n\nLocation: Online (Zoom)\nDate: March 13\, 2021\nTime: 9:00am – 4:00pm MT\nCost: $100 CAD\n\n\nRegister Now\n\n\nDean is a very skilled\, knowledgeable and interactive presenter. He delivered a two day introductory Counselling Skills Training for the Akisqnuk First Nation Health and Administrative staff which was very well received and beneficial to all participants.\nGerard GregoireAkisqnuk First Nation Health\nYou are never quite sure how the unknown is going to be\, but mindfulness will exceed your expectations and open your eyes to how beautiful the mind really is. Maureen’s warm personality and patience helped ease us into it\, especially for those of us in unfamiliar waters. Her delivery\, tone and pace were perfect for me to digest.\nGareth WebbCounsellor\, Youth Substance Use\nAs I mentioned I have some experience (but don’t have a structured daily practice except in times of Crisis). The wording that Maureen used was very clear and could easily be understood and added to my knowledge. Also she made it very easy to incorporate into everyday life. The second best thing was the profound peace that I felt by the end of the second day. I left feeling absolutely lovely and this state lasted the rest of the weekend. Thank you.\nAnn Morin MSW\, Invermere BC\nDean is a professional with an amazing ability to understand what I couldn’t. Dean never did the work for me and he always seems to know what to say to help guide me towards making up my own mind and figuring out my issues. Having Dean as a counsellor is like having a caring knowledgeable friend help you through hard times.\nPK
URL:https://www.clearskycenter.org/event/come-to-your-senses/
CATEGORIES:Online Courses
ATTACH;FMTTYPE=image/jpeg:https://www.clearskycenter.org/wp-content/uploads/2021/02/come_to_your_senses_feature.jpg
END:VEVENT
END:VCALENDAR