BEGIN:VCALENDAR
VERSION:2.0
PRODID:-//Clear Sky Meditation Centre - ECPv6.15.19//NONSGML v1.0//EN
CALSCALE:GREGORIAN
METHOD:PUBLISH
X-WR-CALNAME:Clear Sky Meditation Centre
X-ORIGINAL-URL:https://www.clearskycenter.org
X-WR-CALDESC:Events for Clear Sky Meditation Centre
REFRESH-INTERVAL;VALUE=DURATION:PT1H
X-Robots-Tag:noindex
X-PUBLISHED-TTL:PT1H
BEGIN:VTIMEZONE
TZID:America/Chicago
BEGIN:DAYLIGHT
TZOFFSETFROM:-0600
TZOFFSETTO:-0500
TZNAME:CDT
DTSTART:20190310T080000
END:DAYLIGHT
BEGIN:STANDARD
TZOFFSETFROM:-0500
TZOFFSETTO:-0600
TZNAME:CST
DTSTART:20191103T070000
END:STANDARD
BEGIN:DAYLIGHT
TZOFFSETFROM:-0600
TZOFFSETTO:-0500
TZNAME:CDT
DTSTART:20200308T080000
END:DAYLIGHT
BEGIN:STANDARD
TZOFFSETFROM:-0500
TZOFFSETTO:-0600
TZNAME:CST
DTSTART:20201101T070000
END:STANDARD
BEGIN:DAYLIGHT
TZOFFSETFROM:-0600
TZOFFSETTO:-0500
TZNAME:CDT
DTSTART:20210314T080000
END:DAYLIGHT
BEGIN:STANDARD
TZOFFSETFROM:-0500
TZOFFSETTO:-0600
TZNAME:CST
DTSTART:20211107T070000
END:STANDARD
END:VTIMEZONE
BEGIN:VEVENT
DTSTART;TZID=America/Chicago:20200615T193000
DTEND;TZID=America/Chicago:20200712T160000
DTSTAMP:20260420T131605
CREATED:20200313T154203Z
LAST-MODIFIED:20251124T062729Z
UID:8186-1592249400-1594569600@www.clearskycenter.org
SUMMARY:Beyond the Cushion: Awakening our Highest Potential (Online)
DESCRIPTION:Beyond the Cushion\nIf you’re like most people who care about the planet and growing your self-awareness\, you may have tried many practices – yoga\, counselling\, books\, courses\, meditation. If\, after all these sincere efforts\, your daily life still isn’t working as well as you’d like\, there are reasons for this. \nIn this online course\, we focus on various teaching and training methods that support you to make changes in outdated views\, limiting habits and conflicted emotions. We emphasize practice both as individuals and in community. Changing all this takes courage and work and revolutionizes your personal status quo. \nThe results? More joy\, more creativity\, more compassion\, more freedom\, and a greater sense of true wealth. \n  \n\n\n\n\nCourse Schedule\nStarts June 15\, 2020\nPLEASE NOTE to deepen and integrate your experience\, we are offering three optional weekly Master Classes during the course and an at-home Flash Retreat at the end. See below for more details. \n  \n\n\n\n\n\n\n\n\nClass One – Monday\, June 15\n\n\n\n\n\n\nWe start our journey exploring both the yogic and monastic paths to awakening – and how these are evolving to what we call the “planetary vehicle”. We need authentic and practical ways of doing the spiritual work in our daily life – at home\, at work\, and in our relationships. We get into most of our struggles interacting with others – so we begin by exploring communication that is clear and honest\, loving and compassionate. \n\n\n\n\n\n\n\n\n \n\n\n\n\n\n\nClass Two – Monday\, June 22\n\n\n\n\n\n\nFor much of our days we don’t have the luxury to be sitting in meditation. Incorporating active practice into the rest of our day is as important as a daily sitting meditation. Active spiritual practice helps interrupt the painful patterns in your life and infuse yourself with peace and freedom without having to throw away all of your activities. \nThis week we’ll also explore the importance of training with experienced guides. Regular and consistent interaction with experienced practitioners fosters greater mindfulness in your engagement with both day-to-day activities and community building. This is called “dharma training\,” or “the tuning fork principle:” increasing your awareness and effectiveness through mentorship. \n\n\n\n\n\n\n\n\n \n\n\n\n\n\n\nClass Three – Monday\, June 29\n\n\n\n\n\n\nChallenge yourself to breakthrough! Undertaking regular and doable challenges in mindful ways opens your heart and mind to a greater sense of success. So many of our habits keep us in the same loops. The challenges rewire your brain and loosens many of your less helpful habits. Freedom is the result. \n  \n\n\n\n\n\n\n\n\nClass Four – Monday\, July 6\n\n\n\n\n\n\nCommunity is fundamental to growth. Unfolding into freedom\, peace and love is not a solo event. We all need each other! Generative and sustainable community engagement is an essential element to a healthy and integrated spiritual path. When you support other practitioners\, you feel a wonderful sense of being able to contribute\, and gain insights into yourself that you couldn’t see alone. \n\n\n\n\n\n\n\n\n \n\n\n\n\n\n \n\n\n\n\n\n\n\n \n\n\n\n\n\n\nMaster Classes – Every Sunday\n\n\n\n\n\n\nThere are weekly Master Classes during this online course to support your deepening learning and practice\, on the following dates at 3pm MST: \n\nSun. June 21\nSun. June 28\nSun. July 5\nSun. July 12\n\nWe encourage you to register and offer dana separately and uniquely for each of these Office Hours. You will receive details for how to attend each Master Class once you have registered for the Course \n \n\n\n\n\n\nFlash Retreat – July 10-12\n\n\n\n\n\n\nThis Flash Retreat provides practitioners with a valuable opportunity to integrate and seal the learnings from the online course\, in a format well suited for our contemporary lives. \nWe encourage you to attend this weekend retreat at Clear Sky Centre\, or together with your local sangha\, or if those not available to you\, in your home. \nMany students organize regional online sangha groups to support one another during the online courses and Flash Retreats. Also\, check your inbox for support sessions organized by the Planet Dharma team. \nPlanet Dharma provides themes\, meditations and guidelines to support Flash Retreat participants. You may also support your own unfoldment by attending the Master Class on Sunday\, June 28. \n\n \n  \n\n\nRegistration and Dana links for the Flash Retreat will be accessible to you when you register for the course. \nSangha power – consider organizing or joining regional in-person or online sangha groups to support one another during the online courses and Flash Retreats.  \n  \n\n\n\n\n\n\nREGISTER NOW\n\n\n\n\n\n\n\n\n\n\n 
URL:https://www.clearskycenter.org/event/beyond-cushion-awakening-highest-potential-online/
CATEGORIES:Online Courses
ATTACH;FMTTYPE=image/jpeg:https://www.clearskycenter.org/wp-content/uploads/2020/03/https-cdn.evbuc_.com-images-78554115-115568925969-1-original.20191029-025748-e1584550141794.jpeg
ORGANIZER;CN="Clear Sky Center":MAILTO:contact@clearskycenter.org
END:VEVENT
END:VCALENDAR