BEGIN:VCALENDAR
VERSION:2.0
PRODID:-//Clear Sky Meditation Centre - ECPv6.15.19//NONSGML v1.0//EN
CALSCALE:GREGORIAN
METHOD:PUBLISH
X-ORIGINAL-URL:https://www.clearskycenter.org
X-WR-CALDESC:Events for Clear Sky Meditation Centre
REFRESH-INTERVAL;VALUE=DURATION:PT1H
X-Robots-Tag:noindex
X-PUBLISHED-TTL:PT1H
BEGIN:VTIMEZONE
TZID:America/Chicago
BEGIN:DAYLIGHT
TZOFFSETFROM:-0600
TZOFFSETTO:-0500
TZNAME:CDT
DTSTART:20170312T080000
END:DAYLIGHT
BEGIN:STANDARD
TZOFFSETFROM:-0500
TZOFFSETTO:-0600
TZNAME:CST
DTSTART:20171105T070000
END:STANDARD
BEGIN:DAYLIGHT
TZOFFSETFROM:-0600
TZOFFSETTO:-0500
TZNAME:CDT
DTSTART:20180311T080000
END:DAYLIGHT
BEGIN:STANDARD
TZOFFSETFROM:-0500
TZOFFSETTO:-0600
TZNAME:CST
DTSTART:20181104T070000
END:STANDARD
BEGIN:DAYLIGHT
TZOFFSETFROM:-0600
TZOFFSETTO:-0500
TZNAME:CDT
DTSTART:20190310T080000
END:DAYLIGHT
BEGIN:STANDARD
TZOFFSETFROM:-0500
TZOFFSETTO:-0600
TZNAME:CST
DTSTART:20191103T070000
END:STANDARD
END:VTIMEZONE
BEGIN:VEVENT
DTSTART;TZID=America/Chicago:20180307T180000
DTEND;TZID=America/Chicago:20180411T193000
DTSTAMP:20260422T164013
CREATED:20180726T191026Z
LAST-MODIFIED:20180726T192934Z
UID:3866-1520445600-1523475000@www.clearskycenter.org
SUMMARY:Ignite Your Spiritual Life - Spring 2018
DESCRIPTION:Power in Tantric Traditions: Four-Week Online Course				\n				\n					\n		\n					\n		\n				\n						\n					\n			\n						\n				\n									Do you feel empowered in your practice? In Buddha nature? Showing up authentically with both courage and vulnerability can support our sense of empowerment. In these confusing contemporary times\, such genuine empowerment is essential for tantric practitioners. In this online series\, Catherine Sensei and Right Use of Power and Authentic Leadership teacher Susan Skjei teach together about what power and empowerment mean in the context of tantric spiritual practices. This course aims to empower you to weave every moment with exactly the energy that is needed. 								\n				\n				\n				\n							\n			\n						\n		\n						\n				\n				\n				\n									In this age of confusion about what we can believe and who we can trust\, many of us may feel disempowered at times. Victim culture is often more supported than empowered culture. Uncertainty about the future of humanity and the planet can shake our confidence to its core. And when scandals happen with spiritual leaders – often around money\, sex\, and power – it can leave tantric practitioners wondering: What does authentic empowerment actually look like? What is my power? How can I strengthen it? How can I ethically wield it? This course attends to these questions and issues\, pressing ones for contemporary tantra practitioners. November 8 – November 29\, 2026 Sunday morning online classes 9:30-11:00am MT\, Nov 8\, Nov 15 and Nov 22 Saturday & Sunday November 28-29 – 9:30am and 2:30pm (approx 60-90 min) 								\n				\n				\n				\n									\n					\n						\n									Registration\n					\n					\n				\n								\n				\n					\n		\n				\n			\n						\n				\n							\n			\n		\n						\n				\n					\n		\n					\n		\n				\n						\n					\n			\n						\n				\n							\n			\n		\n						\n				\n					\n		\n					\n		\n				\n						\n					\n			\n						\n						\n					\n			\n						\n				\n					focus area				\n				\n				\n				\n									Buddhism Power 								\n				\n					\n		\n				\n			\n						\n				\n					practice				\n				\n				\n				\n									Course & Optional Home Retreat 								\n				\n					\n		\n				\n			\n						\n				\n					Duration				\n				\n				\n				\n									Four Weeks 								\n				\n					\n		\n				\n			\n						\n				\n					Day/Time				\n				\n				\n				\n									Sundays from 9:30-11am MT 								\n				\n					\n		\n				\n			\n						\n				\n					format				\n				\n				\n				\n									In-Person or Online 								\n				\n					\n		\n					\n		\n					\n		\n					\n		\n				\n						\n					\n			\n						\n				\n					The Path Forward: Your Practice Holds the Key to True Empowerment.\n				\n				\n				\n				\n							\n			\n						\n		\n						\n				\n				\n				\n									Do you feel strong and safe in your tantric practice? In your authentic presence? Do you have the resources you need to support others to feel empowered? Primarily\, our practice helps us become a person who is authentic and therefore trustworthy – for ourselves and for others. This is part of what non-duality is about. The confusion of our times and world leaders doesn’t have to lead to our disempowerment. This course shares how our practice helps us to weave authenticity\, trustworthiness\, personal power\, and empowerment together.  As symbols representing the lower three chakras\, authenticity related to money\, sex\, and power form the foundation of our being\, energetically and in the material world. Catherine Sensei and her partner and teacher Qapel have taught that money and sex are often\, the handmaidens of power\, and that the spiritual path is a quest for the truest and most deep-rooted empowerment there is. In this course\, Catherine Sensei and Susan Skjei teach on what power and empowerment mean for tantric practitioners\, drawing on tantric teachings\, Authentic Leadership\, and Right Use of Power to provide an important framework for understanding power in traditional and modern tantric traditions – empowering us to weave every moment with exactly the energy that is needed. 								\n				\n				\n				\n									\n					\n						\n									Register\n					\n					\n				\n								\n				\n					\n		\n					\n		\n				\n						\n					\n			\n						\n				\n																														\n				\n				\n				\n																														\n				\n					\n		\n				\n			\n						\n				\n																														\n				\n					\n		\n					\n		\n				\n						\n					\n			\n						\n				\n							\n			\n		\n						\n				\n					\n		\n					\n		\n				\n						\n					\n			\n						\n				\n									\n					\n				\n											\n									\n							\n					\n						"In 10 years I have NOT missed a course with master teachers Qapel and Sensei! Every class reflects the light of oneness in prisms of direction and understanding and thus a lighter load to carry in the relative world and a lightness of being. If one aspires to be a bodhisattva and to benefit all beings\, this one recommends the next one."					\n					Brendan R. 				\n						\n											\n		\n								\n									\n							\n				\n								\n				\n					\n		\n					\n		\n				\n						\n					\n			\n						\n				\n							\n			\n		\n						\n				\n					\n		\n					\n		\n				\n						\n					\n			\n						\n						\n					\n			\n						\n				\n									What You’ll LearnIn Power in Tantric Traditions\, you’ll discover: How to be empowered as a tantric practitioner in uncertain timesHow to feel strong in your tantric practice and traditionA deeper understanding of tantra in the context of BuddhismHow to be trustworthy for yourself and others through non-dual practiceThe resources to support others to feel empoweredThis course weaves together the wisdom of tantric Buddhism with proven frameworks for Authentic Leadership and the Right Use of Power\, giving you practical tools to embody empowerment in every moment. 								\n				\n					\n		\n				\n			\n						\n				\n																														\n				\n					\n		\n					\n		\n				\n				\n							\n			\n		\n						\n				\n				\n				\n							\n			\n						\n		\n						\n				\n					\n		\n					\n		\n				\n						\n					\n			\n						\n				\n					Course Schedule				\n				\n					\n		\n					\n		\n				\n						\n					\n			\n						\n				\n									November 8 – 29\, 2026 Class Times (Mountain Time)November 8 – 9:30-11amNovember 15 – 9:30-11amNovember 22 – 9:30-11amSaturday & Sunday November 28-29 – 9:30am and 2:30pm (approx 60-90 min)The formal and participatory teachings for this course will occur on Sundays\, with a separate registration for the Saturday-Sunday flash retreat on the fourth weekend. Class times are estimates and may change slightly. We encourage you to connect with Sangha outside of class times to discuss and deepen your learning of the material. Flash Retreat Weekend: November 28-29To deepen and integrate your experience\, the final (fourth) weekend during the course will also be a Flash Retreat (August 15-16)\, offered by a separate registration\, which will include exercises to engage in. This can be done at home\, or with us at Clear Sky Meditation Centre in Eastern British Columbia. Formal group sessions will be held at these approximate times: Flash Retreat morning session: 9:30am MTFlash Retreat afternoon session: 2:30pm MTSessions will be 60-90 mins in length.								\n				\n					\n		\n				\n			\n						\n				\n																														\n				\n				\n				\n																														\n				\n					\n		\n					\n		\n				\n						\n					\n			\n						\n				\n							\n			\n						\n		\n						\n				\n					\n		\n					\n		\n				\n						\n					\n			\n						\n				\n					Meet the Teachers				\n				\n					\n		\n					\n		\n				\n						\n					\n			\n						\n				\n																														\n				\n				\n				\n																														\n				\n					\n		\n				\n			\n						\n				\n									Catherine Pawasarat SenseiCatherine Pawasarat Sensei is a contemporary Dharma teacher\, attendant\, consort\, co-teacher via Planet Dharma and co-founder of Clear Sky Retreat Center. In addition to Buddhist philosophy and its applications to daily life\, Catherine also draws on generative living and universal spiritual tools including transpersonal astrology and Japanese arts. She trained daily with Acariya Doug Duncan as his attendant and consort from 1998 until his passing in 2024\, in an intensive spiritual apprenticeship that is rare in the modern West. She received lay ordination from Namgyal Rinpoche in 2003.  More About Sensei | About the Lineage 								\n				\n				\n				\n									Susan Skjei\, Ph.DSusan Skjei\, Ph.D. has been a practitioner and Senior Teacher in the Shambhala Buddhist Community for the last 30 years. She has taught many programs and led retreats in the US\, Canada and Europe. She studied with Chogyam Trungpa\, Rinpoche and Sakyong Mipham Rinpoche as well as other Tibetan Buddhist and Zen teachers. Susan is also a leadership coach and organizational consultant. She has been a catalyst for positive change for leaders\, executive teams and boards of nonprofit organizations\, businesses\, and government agencies for over 25 years. She enjoys creating energetic and high trust learning environments that accelerate practical organizational results while building strong\, collaborative relationships. Formerly Susan was a Vice-President and Chief Learning Officer in the technology industry\, a co-founder of the ALIA Institute\, and the founding Director of the Authentic Leadership Center at Naropa University. She loves being in nature and enjoys hiking\, biking and watercolor painting. 								\n				\n					\n		\n					\n		\n				\n						\n					\n			\n							\n		\n					\n		\n				\n						\n					\n			\n						\n				\n							\n			\n		\n						\n				\n				\n				\n									\n					\n						\n									Register Now\n					\n					\n				\n								\n				\n					\n		\n					\n		\n				\n						\n					\n			\n						\n				\n									\n					\n				\n											\n									\n							\n					\n						"The teachers have brought together ancient teachings with scientific findings that prove how and why Dharma teachings radically improve life\, reduce pain and increase global peace. It doesn't matter what you believe\, you will embody a healthy new way of being. Because of their vast collective wisdom\, you leave their presence radically altered for the betterment of humanity."					\n					Evangelos D.				\n						\n									\n						\n											\n											\n		\n								\n									\n							\n				\n								\n				\n					\n		\n					\n		\n				\n						\n					\n			\n						\n				\n					FAQs				\n				\n				\n				\n							\n							\n					\n												\n															\n								\n													\n												What is the main focus of the Power in Tantric Traditions course?\n					\n\n					This 4-week series explores what empowerment means within Tantric Buddhism. It teaches practitioners how to navigate money\, sex\, and power using proven frameworks from Authentic Leadership and the Dharma. \n				\n							\n					\n												\n															\n								\n													\n												Who are the teachers for this course and what are their backgrounds?\n					\n\n					Catherine Pawasarat Sensei\, a contemporary Dharma teacher\, collaborates with Susan Skjei\, Ph.D.\, an Authentic Leadership coach. Together\, they bridge ancient Buddhist wisdom with modern\, ethical leadership and empowerment frameworks. \n				\n							\n					\n												\n															\n								\n													\n												How does this course help me feel more empowered during uncertain times?\n					\n\n					The course provides practical tools to move beyond victim culture. By strengthening your spiritual practice and understanding non-duality\, you will develop the internal resources needed to remain resilient. \n				\n							\n					\n												\n															\n								\n													\n												Why does the course focus specifically on money\, sex\, and power?\n					\n\n					These foundational energies are often the “handmaidens of power.” Understanding them through a spiritual lens helps practitioners build trustworthiness and prevents the scandals often seen in modern spiritual communities. \n				\n							\n					\n												\n															\n								\n													\n												Is this course suitable for beginners in Tantric practice?\n					\n\n					Yes\, the course is open to any practitioner with an open mind. It is designed to deepen your understanding of power\, whether you are new or highly experienced in spirituality. \n				\n							\n					\n												\n															\n								\n													\n												How does non-dual practice help me become more trustworthy for others?\n					\n\n					Non-dual practice clarifies confusion\, helping you become a more reliable person. By aligning your actions with your practice\, you provide a stable\, empowered presence that supports yourself and the community. \n				\n							\n					\n												\n															\n								\n													\n												What practical resources will I gain from participating in this series?\n					\n\n					You will discover how to feel strong in your tradition\, understand Tantra within Buddhism more deeply\, and gain leadership resources to support the empowerment of those around you. \n				\n							\n					\n												\n															\n								\n													\n												Dana and Pricing\n					\n\n					Dana: You may have come across this elsewhere in the form of “pay from the heart.” Dāna is a Sanskrit term meaning “generosity.” With dāna\, we give as a mutual exchange of generosity. It’s our joy to offer this course\, and we trust you’ll match our time\, energy\, and passion by giving an amount of money that feels good and healthy to both you and us. The dharma has been built on generosity. No one is excluded for lack of funds. However\, it is also extremely beneficial to give as much as you are able. Typically people give in a range of $120-$500 USD for a course. As we’re committed to ensuring everyone has access to the Dharma\, please feel comfortable to give less if you are not financially secure. Another form of giving dāna is to offer service\, and if you are interested in providing support in a non-financial way\, we invite you to contact us. If you are financially secure\, we invite you to generate merit by providing more financial support to the Triple Gem. Contributions like these make the difference in supporting our teachers\, teachings\, and center. Learn more about the practice of dāna here. \n				\n							\n					\n												\n															\n								\n													\n												About the Online Admin Fee\n					\n\n					In a traditional model of in-person teachings\, a retreat center or urban meditation center invites teachers to visit. In these cases the centers have infrastructure and organization costs to cover\, which might be covered by an admin fee. For the teaching itself\, dāna to the teachers is offered in a bowl. This honors both the sustainability of the teachers\, and of the supporting center. We’ve tried to recreate this approach online. The teachers’ time and the teaching themselves are offered on the basis of dāna\, separate to the admin fee. With our dāna offering we are making a direct gift of generosity to the teachers to support their teachings and livelihood. The admin fee* goes to support the infrastructure and organization necessary to support them to teach. As anyone with an online business will know\, the costs of setting up good infrastructure to support effective teaching and connection online can be surprising. Our admin fee changes based on the date of registration. Register four + weeks prior: $80Register two to four weeks prior: $100Register less than two weeks prior: $120 *We also do not wish to exclude anyone from the Teachings\, so if you are not currently in a financial position to afford the admin fee\, please contact the course Registrar via registrar@planetdharma.com so we can support you to attend. — Below are a few of the work and benefits that your admin fee payment is supporting: High speed internet (to allow interviews and classes on-line)Online class systems (Zoom)Registration / admin systems (Eventbrite\, Basecamp)Communication systems to keep everyone informed\, share connection details\, teachings and other resources (Mailchimp)Online storage (for example\, Dropbox\, to allow us to let students watch recordings\, and to store and share selected teachings in other forms such as podcasts and video later\, and Amazon cloud)Quality sound\, video and editing equipment (both for live teachings and to provide good enough quality for later sharing as podcasts and video). We are regularly updating our equipment to improve your user experience.Online calendar booking system to allow students to book interviewsWebsite hosting and maintenance for sharing upcoming courses\, teachings\, blogs and other resources.We welcome any questions. May all our efforts be sustainable\, abundant and for the benefit of all beings! \n				\n								\n						\n				\n					\n		\n					\n		\n				\n						\n					\n			\n						\n				\n							\n			\n		\n						\n				\n					\n		\n					\n		\n				\n						\n					\n			\n						\n				\n							\n					\n						\n				\n					\n		\n				\n			\n						\n				\n																														\n				\n					\n		\n					\n		\n				\n						\n					\n			\n						\n				\n									\n					\n						\n									Register
URL:https://www.clearskycenter.org/event/ignite-spiritual-life-spring-2018/
CATEGORIES:Online Courses
END:VEVENT
END:VCALENDAR