BEGIN:VCALENDAR
VERSION:2.0
PRODID:-//Clear Sky Meditation Centre - ECPv6.15.19//NONSGML v1.0//EN
CALSCALE:GREGORIAN
METHOD:PUBLISH
X-WR-CALNAME:Clear Sky Meditation Centre
X-ORIGINAL-URL:https://www.clearskycenter.org
X-WR-CALDESC:Events for Clear Sky Meditation Centre
REFRESH-INTERVAL;VALUE=DURATION:PT1H
X-Robots-Tag:noindex
X-PUBLISHED-TTL:PT1H
BEGIN:VTIMEZONE
TZID:America/Edmonton
BEGIN:DAYLIGHT
TZOFFSETFROM:-0700
TZOFFSETTO:-0600
TZNAME:MDT
DTSTART:20220313T090000
END:DAYLIGHT
BEGIN:STANDARD
TZOFFSETFROM:-0600
TZOFFSETTO:-0700
TZNAME:MST
DTSTART:20221106T080000
END:STANDARD
BEGIN:DAYLIGHT
TZOFFSETFROM:-0700
TZOFFSETTO:-0600
TZNAME:MDT
DTSTART:20230312T090000
END:DAYLIGHT
BEGIN:STANDARD
TZOFFSETFROM:-0600
TZOFFSETTO:-0700
TZNAME:MST
DTSTART:20231105T080000
END:STANDARD
BEGIN:DAYLIGHT
TZOFFSETFROM:-0700
TZOFFSETTO:-0600
TZNAME:MDT
DTSTART:20240310T090000
END:DAYLIGHT
BEGIN:STANDARD
TZOFFSETFROM:-0600
TZOFFSETTO:-0700
TZNAME:MST
DTSTART:20241103T080000
END:STANDARD
END:VTIMEZONE
BEGIN:VEVENT
DTSTART;TZID=America/Edmonton:20231006T080000
DTEND;TZID=America/Edmonton:20231022T170000
DTSTAMP:20260419T185034
CREATED:20230206T002516Z
LAST-MODIFIED:20260310T103246Z
UID:18754-1696579200-1697994000@www.clearskycenter.org
SUMMARY:The Mind’s Cutting Edge: 12 Manjushris Meditation Retreat
DESCRIPTION:12 Manjushri Retreat: Vajrayana Meditation & Wisdom Practice\n“Without signs and words\, transmission happens in the deepest silence.”  \n-Qapel Doug Duncan \nDo you wish to embrace wisdom and its different manifestations? Manjushri is the Vajrayana Buddhist archetype of wisdom. In this retreat we will focus on developing cognitive intelligence\, discrimination\, clarity and rigor in terms of thinking. Our methodology will be the Twelve Manjushri deity yoga practice from the Vajrayana tradition. \nHail to the wisdom that is ripening! \nRegistration Deadline: September 22nd \nSuper Early Bird ends August 6th! \n					\n									Register Now\n					\n																														 \nVajrayana Buddhism \nfocus area\nMeditation Retreat \npractice\nTwo Weeks \nDuration\nIntermediate \nSkill Level\nIn-Person \nformat\n12 Manjushri Meditation (Retreat)\nManjushri\, or Mañjuśrī (Sanskrit: मञ्जुश्री) is associated with prajñā (wisdom) in Mahāyāna Buddhism. Our deity yoga work with this particular aspect of the awakened mind will relate to the development of cognitive intelligence.  \nWhile Manjushri is most commonly depicted alone\, this Twelve Manjushri practice is a particular deity yoga practice with 12 emanations of Manjushri in one sadhana.   \nManjushri’s name means “Gentle Glory” in Sanskrit – and this practice of twelve manjushris will be 12 times that!   \nPrerequisites/Preparation: to be announced. \n					\n									Register Now\n					\n															\n															\n															\n						“Qapel and Sensei teach in a light\, but profound way – taking us on a brilliant journey of understanding with guile and humour.\nTheir male and female perspectives help balance with differing approaches to explaining a complex but genius system that holds all life understanding from religion\, science\, psychotherapy and wisdom traditions.”\n					Jonathan C. Shiatsu\, Qigong & Meditation Teacher\n				 \nWhat’s Expected of Me if I Come to This Retreat?\n\nPre-requisites/Preparation: to be announced.\nA strong foundation of parami and a willingness to see other dimensions and cultivate your mind\, drug free.\nThe more extensive meditation experience you’ve had the better. For beginners to meditation\, we suggest the Breathing Retreat in August.\nYou are responsible for your own wellbeing.\nTo maximize your depth of practice\, we ask that you refrain from reading\, using the internet\, phone or listening to music during the course.\n\n																														 \nThe 12 Manjushri Empowerment (Wongkur)\nDuring this retreat\, a tantric initiation or empowerment (Wongkur) will be given by Qapel and Sensei. This provides the foundation for the meditation practice and reflection throughout the retreat. \nWhat is Wongkur? (Vajrayana Empowerments)\nInitiations\, empowerments\, or wongkur (Tib. དབང་\, wang) are considered the spring from which all blessings flow. More literally\, these are ritual celebrations in which a specific teaching is transmitted from Teacher to student that enables the student to practice a new form of “Arising Yoga” or “Deity Practice”. \nFor more information about wongkur\, we recommend reading ‘What is Wongkur’\, which includes ‘A Western Psychological Orientation to Deity Yoga’ by the Venerable Namgyal Rinpoche and ‘A Traditional Tibetan Vajrayana Buddhist View’ by His Holiness the 41st Sakya Trizin. It is extensive article\, published by Wesley Knapp. Visit and support his archival work at the Sakya Namgyal Archive.  \n					\n									Download PDF – What is Wong Kur?\n					 \nSchedule\nArrival: October 5th at 3pm\, MT \nSample brief daily schedule: \n9am Class with Teacher \n11am Group Meditation led by a Senior Student \n12:30pm Lunch \n3pm Group Meditation led by a Senior Student \n6pm Dinner \n7:30 pm Meditation and Q&A with Qapel  \nDeparture: October 22nd  \n*Daily schedule is subject to changes closer to the course date.  Questions about the retreat? Phone 250-429-3929\, or contact maureen@clearskycenter.org. \n  \nIn order to give enough time to rest from travel before the retreat starts\, we recommend that domestic travellers arrive one day early\, and long distance international travellers arrive two days early. After the retreat we also suggest staying for at least another day for integration\, however you are also welcome to stay longer for one of  our hybrid stay options. \nBooking a flight? Airport pickups can be booked when you register for the retreat. On the rare chance that this retreat is cancelled or if unforseen global circumstances cause travel interruptions\, we highly recommend purchasing travel insurance and modifiable tickets.  \n															\n															\n																														 \nMeet the Teachers\n																														 \nDoug Qapel Duncan \n																														 \nCatherine Pawasarat Sensei \nDoug Duncan and Catherine Pawasarat are Dharma and meditation teachers who founded Clear Sky Meditation Center\, BC\, Canada. \nAchariya Doug Duncan received lay ordination from Namgyal Rinpoche in 1978\, and is a lineage holder in that teaching. Known for his direct\, humorous and compassionate engagement with students\, Doug embraces various traditions\, contemporary psychology\, and science\, to mentor all beings to a more awakened state. \nCatherine Pawasarat has trained daily with Acariya Doug Duncan since 1998 in an intensive spiritual apprenticeship that is rare in the modern West. She received lay ordination from Namgyal Rinpoche in 2003. In addition to Buddhist philosophy and its applications to daily life\, Catherine also draws on generative living and the arts. With Doug she is co-founder of Clear Sky Retreat Center in the BC Rockies. \n					\n									Register Now\n					 \nAbout Clear Sky\nLocated in the BC rocky mountains\, we offer over 300-acres to deepen your practice and reconnect with nature.  \nFounded by Qapel Doug Duncan and Catherine Pawasarat Sensei\, we are home to students from around the globe who are dedicated to co-creating a supportive and innovative space for awakening in our modern world. \nIn adherence with our quadruple bottom line\, we source our food as local and organic as possible. \nEVERYTHING YOU NEED TO KNOW on how to get here\, what to bring and what to expect.  \n															\n															\n															\n															\n						“This retreat centre is the REAL THING. It’s a modern monastery with people grounded in the present and practicing old and new methods of living in a spiritual community. This group walks the talk. I have made the trek from Ontario all the way to this remote corner of BC every year for the last 16 years to study with these teachers\, interact with these fellow seekers\, and bask in the beauty of this gorgeous property.”\n					Linda H.Dharma Teacher & Author\n						 \nFAQs\n												Dana and Pricing \nDana: \nThis retreat is offered on the basis of dāna (generosity). \nDāna is a Sanskrit term meaning “generosity”\, and is the traditional way in which Buddhist teachings are offered.  With dāna\, we give as a mutual exchange of generosity. You may have come across this in the form of “pay from the heart”. It’s our joy to offer this course\, and we trust you’ll match our time\, energy\, and passion by giving an amount of money that feels good and healthy to both you and us. \nYou will be sent a link to offer “dana” to the teachers after registration.  \nFor more information on dāna click here. \nPricing:  \nIn addition to Dana to the Teacher\, Clear Sky Meditation Centre provides an incredible space for your retreat.  Situated on a beautiful 310-acre property in the Rocky Mountains\, the center and its karma yogis provide you nourishing daily meals and comfortable accomodation. Read more: Staying with us (Clear Sky Meditation Centre) \nPlease go to the retreat registration page for this retreat for details of the all inclusive fee for the retreat. \n												Detailed Daily Schedule (Long retreats) \nSpecific times may change – this is a rough guide (MST) \n6:30 – 7:30 AM: Walk &/or Personal Practice7:30 – 8:15 AM: Breakfast: Prepare\, eat\, clean up8:15 – 8:45 AM: Walk &/or Personal Practice9:00 – 10:00 AM: Class with Teachers10:00 – 10:30 AM: Walk10:30 – 11:30 AM: Group Practice led by Sangha11:30 – 12:30 PM: Personal Practice12:30 – 1:30 PM: Lunch: Prepare\, eat\, clean up1:30 – 3:00 PM: Personal Practice3:00 – 4:00 PM: Group Practice led by Sangha4:00 – 5:30 PM: Personal Practice5:30 – 7:00 PM: Dinner: prepare\, eat\, clean up7:00 – 7:30 PM: Walk &/or Personal Practice7:30 – 8:30 PM: Group Practice and Q & A with Teachers8:30 – Beyond: Personal Practice & bed \n												Food\, Weather\, Accommodation and How to Get Here \nClick here for details on how to get here\, what to bring and what to expect.  \n												Scholarship Application \nWe aim to make our retreats as accessible as possible.  \nAs a centre run entirely by Karma Yoga (selfless service)\, retreat fees only cover food\, accommodation and the equipment required to offer them online. \nThe teachings themselves are offered on the basis of Dāna (pay-from-the-heart).  \nFor some\, this is still a barrier of entry. \nIf you are seeking financial assistance to attend a retreat\, please complete a Scholarship Application form. \n												Microdosing/Psychedelics \nWe recognize and respect plant medicine as an important part of some people’s spiritual paths.  \nPlease note\, the meditation practice on this retreat is very powerful. Consuming mind-altering substances will detract from your experience and could cause negative side-effects.  \nWe ask that you refrain from microdosing or consuming mind-altering substances during this retreat and in the days immediately following it.  \n		\n															\n					\n									Register Now
URL:https://www.clearskycenter.org/event/12-manjushri-retreat/
CATEGORIES:Featured Courses,Group Retreats and Courses
ATTACH;FMTTYPE=image/jpeg:https://www.clearskycenter.org/wp-content/uploads/2023/01/Manjushri-Meditation-Retreat.jpg
END:VEVENT
END:VCALENDAR