BEGIN:VCALENDAR
VERSION:2.0
PRODID:-//Clear Sky Meditation Centre - ECPv6.15.19//NONSGML v1.0//EN
CALSCALE:GREGORIAN
METHOD:PUBLISH
X-WR-CALNAME:Clear Sky Meditation Centre
X-ORIGINAL-URL:https://www.clearskycenter.org
X-WR-CALDESC:Events for Clear Sky Meditation Centre
REFRESH-INTERVAL;VALUE=DURATION:PT1H
X-Robots-Tag:noindex
X-PUBLISHED-TTL:PT1H
BEGIN:VTIMEZONE
TZID:America/Edmonton
BEGIN:DAYLIGHT
TZOFFSETFROM:-0700
TZOFFSETTO:-0600
TZNAME:MDT
DTSTART:20220313T090000
END:DAYLIGHT
BEGIN:STANDARD
TZOFFSETFROM:-0600
TZOFFSETTO:-0700
TZNAME:MST
DTSTART:20221106T080000
END:STANDARD
BEGIN:DAYLIGHT
TZOFFSETFROM:-0700
TZOFFSETTO:-0600
TZNAME:MDT
DTSTART:20230312T090000
END:DAYLIGHT
BEGIN:STANDARD
TZOFFSETFROM:-0600
TZOFFSETTO:-0700
TZNAME:MST
DTSTART:20231105T080000
END:STANDARD
BEGIN:DAYLIGHT
TZOFFSETFROM:-0700
TZOFFSETTO:-0600
TZNAME:MDT
DTSTART:20240310T090000
END:DAYLIGHT
BEGIN:STANDARD
TZOFFSETFROM:-0600
TZOFFSETTO:-0700
TZNAME:MST
DTSTART:20241103T080000
END:STANDARD
END:VTIMEZONE
BEGIN:VEVENT
DTSTART;TZID=America/Edmonton:20230721T170000
DTEND;TZID=America/Edmonton:20230723T170000
DTSTAMP:20260419T223016
CREATED:20230328T193439Z
LAST-MODIFIED:20260310T102858Z
UID:18673-1689958800-1690131600@www.clearskycenter.org
SUMMARY:As the Spirit Moves (In-Person and Online)
DESCRIPTION:As the Spirit Moves: Eclectic Guru Yoga Weekend with Qapel\n“If you want truth\, it costs all of you.” -Qapel \nShow up for teachings from Qapel and find out what he’ll teach. It will be eclectic and sure to inspire. In the spirit of Guru Yoga – unorganised\, undetermined\, unregulated. No seatbelts allowed.  \n					\n									Attend In-Person\n					\n					\n									Attend Online\n					\n																														 \nBuddhism\nfocus area\nGuru Yoga\npractice\nWeekend\nDuration\nAdvanced\nSkill Level\nIn-Person & Online \nformat\nSection Headline\nJoin Qapel (Achariya Doug Duncan) for an eclectic weekend of ‘old school’ style dharma teachings. In the past\, people ‘showed up’ for dharma teachings\, regardless of topic. The teachings given were inspired by the energy of the people there. \nIn the spirit of Guru Yoga this course will be relatively unorganised\, undetermined and unregulated. So\, think of this weekend like a challenge – what will happen if you have no idea what will be taught\, where the teachings might flow\, how the spirit will move? \nIn tantrayana\, guru yoga is considered the pinnacle practice – and our Western egos tend to have a hard time with this. So\, throw down the glove! Are you willing to take this leap of faith. Can your ego handle it?  \n					\n									Attend In-Person\n					\n					\n									Attend Online\n					\n															\n															\n															\n						“I have yet to encounter another setting where I grow as much as I do while at Clear Sky. The balance of support\, genuine care and challenge is rare and precious.\nWhen it comes to spiritual transformation\, Clear Sky is a place and group of people that is not only talking-the-talk but actively walking-the-walk.”\n					Ruth L. 				 \nCourse Details\nTime and Location\nAs the Spirit Moves will be led by Qapel (Achariya Doug Duncan) at Clear Sky Meditation Center in Eastern BC. \nAn online option is also available for those not in Western Canada\, to make participation possible from anywhere in the world. \nWhat Does the Course Cost?\nIn-Person Participants: 1) dāna to the Teachers and 2) accomodation and meal costs for your stay Clear Sky Meditation Centre. \nOnline Participants: 1) dāna to the Teacher and 2) online administration fee of $150. \n																														 \nMeet the Teachers\n																														 \nQapel (Achariya Doug Duncan) \nQapel studied with the Ven. Namgyal Rinpoche from 1974 until the latter’s passing in 2003. Doug received lay ordination from Namgyal Rinpoche in 1978\, and is a lineage holder in that teaching. He also received teachings from the 16th Karmapa and other Tibetan Rinpoches\, as well as from the Ven. Sayadaw U Thila Wunta and from a Master of the Western Mystery School. In addition\, Doug has undertaken numerous three-month solitary meditation retreats. \nDoug has been leading retreats\, teaching and training in universal practices of spiritual unfoldment since 1985\, helping thousands of students in numerous countries liberate themselves from suffering. His teaching also draws on contemporary psychology and science. In 2004 he co-founded Clear Sky Retreat Center in the BC Rockies where he is resident teacher along with Catherine Pawasarat Sensei. \nMore About Qapel | About the Lineage \nAbout Clear Sky\nLocated in the BC rocky mountains\, we offer over 300-acres to deepen your practice and reconnect with nature.  \nFounded by Qapel Doug Duncan and Catherine Pawasarat Sensei\, we are home to students from around the globe who are dedicated to co-creating a supportive and innovative space for awakening in our modern world. \nIn adherence with our quadruple bottom line\, we source our food as local and organic as possible. \nEVERYTHING YOU NEED TO KNOW on how to get here\, what to bring and what to expect.  \n															\n					\n									Attend In-Person\n					\n					\n									Attend Online\n					\n															\n															\n															\n						“This retreat centre is the REAL THING. It’s a modern monastery with people grounded in the present and practicing old and new methods of living in a spiritual community. This group walks the talk. I have made the trek from Ontario all the way to this remote corner of BC every year for the last 16 years to study with these teachers\, interact with these fellow seekers\, and bask in the beauty of this gorgeous property.”\n					Linda H.\n						 \nFAQs\n												Dana and Pricing \nDana: \nThis retreat is offered on the basis of dāna (generosity). \nDāna is a Sanskrit term meaning “generosity”\, and is the traditional way in which Buddhist teachings are offered.  With dāna\, we give as a mutual exchange of generosity. You may have come across this in the form of “pay from the heart”. It’s our joy to offer this course\, and we trust you’ll match our time\, energy\, and passion by giving an amount of money that feels good and healthy to both you and us. \nYou will be sent a link to offer “dana” to the teachers after registration.  \nFor more information on dāna click here. \nPricing: As a charitable organization\, we strive to provide locally sourced organic meals and comfortable accommodations at an affordable price. Fees vary depending on your accommodation choice and early bird pricing. \n												Detailed Daily Schedule (Long retreats) \nSpecific times may change – this is a rough guide (MST) \n6:30 – 7:30 AM: Walk &/or Personal Practice7:30 – 8:15 AM: Breakfast: Prepare\, eat\, clean up8:15 – 8:45 AM: Walk &/or Personal Practice9:00 – 10:00 AM: Class with Teachers10:00 – 10:30 AM: Walk10:30 – 11:30 AM: Group Practice led by Sangha11:30 – 12:30 PM: Personal Practice12:30 – 1:30 PM: Lunch: Prepare\, eat\, clean up1:30 – 3:00 PM: Personal Practice3:00 – 4:00 PM: Group Practice led by Sangha4:00 – 5:30 PM: Personal Practice5:30 – 7:00 PM: Dinner: prepare\, eat\, clean up7:00 – 7:30 PM: Walk &/or Personal Practice7:30 – 8:30 PM: Group Practice and Q & A with Teachers8:30 – Beyond: Personal Practice & bed \n												Food\, Weather\, Accommodation and How to Get Here \nClick here for details on how to get here\, what to bring and what to expect.  \n		\n															\n					\n									Attend In-Person\n					\n					\n									Attend Online
URL:https://www.clearskycenter.org/event/as-the-spirit-moves/
CATEGORIES:Featured Courses,Group Retreats and Courses,Online Courses
ATTACH;FMTTYPE=image/jpeg:https://www.clearskycenter.org/wp-content/uploads/2023/03/As-the-Spirit-Moves-online.jpg
END:VEVENT
END:VCALENDAR