BEGIN:VCALENDAR
VERSION:2.0
PRODID:-//Clear Sky Meditation Centre - ECPv6.15.19//NONSGML v1.0//EN
CALSCALE:GREGORIAN
METHOD:PUBLISH
X-ORIGINAL-URL:https://www.clearskycenter.org
X-WR-CALDESC:Events for Clear Sky Meditation Centre
REFRESH-INTERVAL;VALUE=DURATION:PT1H
X-Robots-Tag:noindex
X-PUBLISHED-TTL:PT1H
BEGIN:VTIMEZONE
TZID:America/Edmonton
BEGIN:DAYLIGHT
TZOFFSETFROM:-0700
TZOFFSETTO:-0600
TZNAME:MDT
DTSTART:20220313T090000
END:DAYLIGHT
BEGIN:STANDARD
TZOFFSETFROM:-0600
TZOFFSETTO:-0700
TZNAME:MST
DTSTART:20221106T080000
END:STANDARD
BEGIN:DAYLIGHT
TZOFFSETFROM:-0700
TZOFFSETTO:-0600
TZNAME:MDT
DTSTART:20230312T090000
END:DAYLIGHT
BEGIN:STANDARD
TZOFFSETFROM:-0600
TZOFFSETTO:-0700
TZNAME:MST
DTSTART:20231105T080000
END:STANDARD
BEGIN:DAYLIGHT
TZOFFSETFROM:-0700
TZOFFSETTO:-0600
TZNAME:MDT
DTSTART:20240310T090000
END:DAYLIGHT
BEGIN:STANDARD
TZOFFSETFROM:-0600
TZOFFSETTO:-0700
TZNAME:MST
DTSTART:20241103T080000
END:STANDARD
END:VTIMEZONE
BEGIN:VTIMEZONE
TZID:America/Chicago
BEGIN:DAYLIGHT
TZOFFSETFROM:-0600
TZOFFSETTO:-0500
TZNAME:CDT
DTSTART:20220313T080000
END:DAYLIGHT
BEGIN:STANDARD
TZOFFSETFROM:-0500
TZOFFSETTO:-0600
TZNAME:CST
DTSTART:20221106T070000
END:STANDARD
BEGIN:DAYLIGHT
TZOFFSETFROM:-0600
TZOFFSETTO:-0500
TZNAME:CDT
DTSTART:20230312T080000
END:DAYLIGHT
BEGIN:STANDARD
TZOFFSETFROM:-0500
TZOFFSETTO:-0600
TZNAME:CST
DTSTART:20231105T070000
END:STANDARD
BEGIN:DAYLIGHT
TZOFFSETFROM:-0600
TZOFFSETTO:-0500
TZNAME:CDT
DTSTART:20240310T080000
END:DAYLIGHT
BEGIN:STANDARD
TZOFFSETFROM:-0500
TZOFFSETTO:-0600
TZNAME:CST
DTSTART:20241103T070000
END:STANDARD
END:VTIMEZONE
BEGIN:VEVENT
DTSTART;TZID=America/Edmonton:20230409T190000
DTEND;TZID=America/Edmonton:20230415T170000
DTSTAMP:20260420T034803
CREATED:20230202T001707Z
LAST-MODIFIED:20251209T103625Z
UID:18671-1681066800-1681578000@www.clearskycenter.org
SUMMARY:Going\, Going\, Gone: Teachings of Nagarjuna (In-Person or Online)
DESCRIPTION:“Just as it is known\nThat an image of one’s face is seen\nDepending on a mirror\nBut does not really exist as a face\,\nSo the conception of “I” exists\nDependent on mind and body\,\nBut like the image of a face\nThe “I” does not at all exist as its own reality.”\n― Nagarjuna \nJoin Qapel Doug Duncan for an eight day meditation retreat on the deep emptiness teachings of Nagarjuna. In it we will study\, reflect and meditate on the nature of emptiness – both ultimate and approximate. \nRegistration Deadline:  \nIN-PERSON – March 24\, 2023 ONLINE – March 31st\, 2023 \n\nAttend In-Person\n\n\nAttend Online\n\n \nMahayana \nBuddhism \nfocus area\nMeditation \nRetreat \npractice\nOne \nWeek \nDuration\nAll \nLevels \nSkill Level\nIn-Person \nor Online \nformat\nGoing\, Going\, Gone: Teachings of Nagarjuna.\nHow deeply do you understand emptiness?  In this retreat we will study the pinnacle teachings of the Mahayana Madhyamika tradition that analyse the different levels of emptiness. \nThis meditation retreat will be led by Qapel (Achariya Doug Duncan) at Clear Sky Meditation Center in Eastern BC.  Rigourous study\, meditation and reflection is expected of participants in this powerful retreat. \nAn online option is also available for those not in Western Canada\, to make participation possible from anywhere in the world. \nWhile we believe any undertaking can be a vehicle for awakening\, there’s no substitute for the power of one’s own profound experience of truth\, gained through meditation. This is why meditation is one of the four foundational practices of our teaching. \nRecommended texts for this course: \nThe Fundamental Wisdom of the Middle Way: Nagarjuna’s Mulamadhyamakakarika (Garfield). \nThe Adornment of the Middle Way: Shantarakshita’s Madhyamakalankara (Shambala). \n\nAttend In-Person\n\n\nAttend Online\n\n\n\n\n“Clear Sky is my favourite place to retreat.\nI am so grateful to find such an amazing place to study various meditation practices\, walk in stunning nature and eat fresh food from the farm.\nI always enjoy going there for more.”\nMaya L.  \nMeet the Teacher\nQapel (Achariya Doug Duncan) \nQapel studied with the Ven. Namgyal Rinpoche from 1974 until the latter’s passing in 2003. Doug received lay ordination from Namgyal Rinpoche in 1978\, and is a lineage holder in that teaching. He also received teachings from the 16th Karmapa and other Tibetan Rinpoches\, as well as from the Ven. Sayadaw U Thila Wunta and from a Master of the Western Mystery School. In addition\, Doug has undertaken numerous three-month solitary meditation retreats. \nDoug has been leading retreats\, teaching and training in universal practices of spiritual unfoldment since 1985\, helping thousands of students in numerous countries liberate themselves from suffering. His teaching also draws on contemporary psychology and science. In 2004 he co-founded Clear Sky Retreat Center in the BC Rockies where he is resident teacher along with Catherine Pawasarat Sensei. \nMore About Qapel | About the Lineage \n \nSchedule\nArrival: Sunday\, April 9th at 3pm\, MT \nSample brief daily schedule: \n9am Class with Teacher \n11am Group Meditation led by a Senior Student \n12:30pm Lunch \n3pm Group Meditation led by a Senior Student \n6pm Dinner \n7:30 pm Meditation and Q&A with Qapel \nDeparture: Saturday\, April 15th at 3 pm \n*Daily schedule is subject to changes closer to the course date.  Questions about the retreat? Phone 250-429-3929\, or contact maureen@clearskycenter.org.\n\n\n\nAttend In-Person\n\n\nAttend Online\n \nAbout Clear Sky\nLocated in the BC rocky mountains\, we offer over 300-acres to deepen your practice and reconnect with nature. \nFounded by Qapel Doug Duncan and Catherine Pawasarat Sensei\, we are home to students from around the globe who are dedicated to co-creating a supportive and innovative space for awakening in our modern world. \nIn adherence with our quadruple bottom line\, we source our food as local and organic as possible. \nEVERYTHING YOU NEED TO KNOW on how to get here\, what to bring and what to expect.  \n\n\n\n\n“This retreat centre is the REAL THING. It’s a modern monastery with people grounded in the present and practicing old and new methods of living in a spiritual community. This group walks the talk. I have made the trek from Ontario all the way to this remote corner of BC every year for the last 16 years to study with these teachers\, interact with these fellow seekers\, and bask in the beauty of this gorgeous property.”\nLinda H.\n \nFAQs\nDana and Pricing \nDana: \nThis retreat is offered on the basis of dāna (generosity). \nDāna is a Sanskrit term meaning “generosity”\, and is the traditional way in which Buddhist teachings are offered.  With dāna\, we give as a mutual exchange of generosity. You may have come across this in the form of “pay from the heart”. It’s our joy to offer this course\, and we trust you’ll match our time\, energy\, and passion by giving an amount of money that feels good and healthy to both you and us. \nYou will be sent a link to offer “dana” to the teachers after registration. \nFor more information on dāna click here. \nPricing: As a charitable organization\, we strive to provide locally sourced organic meals and comfortable accommodations at an affordable price. Fees vary depending on your accommodation choice and early bird pricing. \nOnline Retreatants: Admin Fees & Requirements \nIn order to bring you this retreat at home\, there is an additional admin fee* of $150 CAD. The admin fee is to cover the costs of running these online courses – for equipment and software to provide you the teachings online. \nIf you are taking this retreat online\, we require that you devote your full attention to the retreat for the entire week. \nRequirements include: \n\nBlock out the retreat duration and be focused on the retreat for this entire period\, using this time and participating in the retreat as if you were at Clear Sky in person.  This includes a rigorous\, full\, daily meditation schedule.\nParticipate in all of the daily classes and group practices via online streaming.\nSet up a quiet space or location where you can focus on the Meditation Retreat\, and not need to engage in conversation or work with others.\nPut away your phone\, digital devices and other distractions.\nIf there are enough people in the same time zone as you\, you could also make a cohort to meet to do a group practice throughout the retreat.\nNote: full details/ requirements will be sent to you after registering\n\nAbout the administrative fee* \nIn a traditional model of in-person teachings\, a retreat center or urban meditation center invites teachers to visit. In these cases the centers have infrastructure and organization costs to cover\, which might be covered by an admin fee. For the teaching itself\, dāna to the teachers is offered in a bowl. This honors both the sustainability of the teachers and of the supporting center. \nWe’ve tried to recreate this approach online.\nThe teachers’ time and the teaching themselves are offered on the basis of dāna\, separate to the admin fee. With our dāna offering we are making a direct gift of generosity to the teachers to support their teachings and livelihood. Learn more about the practice of dāna here. \nThe admin fee goes to support the infrastructure and organization necessary to support them to teach. As anyone with an online business will know\, it can be surprising the costs of setting up a good infrastructure to support effective teaching and connection online. \nBelow are a few of the work and benefits that your admin fee payment is supporting: \n\nhigh speed internet (to allow interviews and classes on-line)\nonline class systems (Zoom)\nregistration / admin systems (Eventbrite\, Basecamp)\ncommunication systems to keep everyone informed\, share connection details\, teachings and other resources (Mailchimp)\nonline storage (for example\, Dropbox\, to allow us to let students watch recordings and to store and share selected teachings in other forms such as podcasts and videos after the Teachings)\nquality sound\, video and editing equipment (both for live teachings and to provide good enough quality for later sharing as podcasts and video). We are regularly updating our equipment to improve your user experience.\nonline calendar booking system to allow students to book interviews\nwebsite hosting and maintenance for sharing upcoming courses\, teachings\, blogs and other resources.\n\nMay all our efforts be sustainable\, abundant and for the benefit of all beings! \nDetailed Daily Schedule (Long retreats) \nSpecific times may change – this is a rough guide (MST) \n6:30 – 7:30 AM: Walk &/or Personal Practice\n7:30 – 8:15 AM: Breakfast: Prepare\, eat\, clean up\n8:15 – 8:45 AM: Walk &/or Personal Practice\n9:00 – 10:00 AM: Class with Teachers\n10:00 – 10:30 AM: Walk\n10:30 – 11:30 AM: Group Practice led by Sangha\n11:30 – 12:30 PM: Personal Practice\n12:30 – 1:30 PM: Lunch: Prepare\, eat\, clean up\n1:30 – 3:00 PM: Personal Practice\n3:00 – 4:00 PM: Group Practice led by Sangha\n4:00 – 5:30 PM: Personal Practice\n5:30 – 7:00 PM: Dinner: prepare\, eat\, clean up\n7:00 – 7:30 PM: Walk &/or Personal Practice\n7:30 – 8:30 PM: Group Practice and Q & A with Teachers\n8:30 – Beyond: Personal Practice & bed \nFood\, Weather\, Accommodation and How to Get Here \nClick here for details on how to get here\, what to bring and what to expect.  \n\n\n\nAttend In-Person\n\n\nAttend Online
URL:https://www.clearskycenter.org/event/nagarjuna-meditation-retreat/
CATEGORIES:Group Retreats and Courses,Special Events
ATTACH;FMTTYPE=image/jpeg:https://www.clearskycenter.org/wp-content/uploads/2023/01/Nagarjuna-Meditation-Retreat-1.jpg
END:VEVENT
BEGIN:VEVENT
DTSTART;TZID=America/Chicago:20230429T133000
DTEND;TZID=America/Chicago:20230429T163000
DTSTAMP:20260420T034803
CREATED:20210218T203526Z
LAST-MODIFIED:20251212T074042Z
UID:10068-1682775000-1682785800@www.clearskycenter.org
SUMMARY:Come to your Senses: A Day to Practice Deep Mindfulness
DESCRIPTION:An Alive Mindfully Course with Maureen Smith & Dean Nicholson\nApril 29\, 2023 \n1:30pm-4:30pm MDT \nClick here to see your timezone \nLife is busy.  From the time you wake up to the time you go to bed\, you face demands from work\, family\, finances\, health.  While navigating through life’s daily challenges it can be difficult to pause and take a breath\, to smell the roses\, to rest in the moment.  Give yourself a gift and join us at the Clear Sky Meditation Center to take time to reset. \n\nRegister Now\n \nWe are delighted to share this course that is being offered in collaboration with our friends at Alive Mindfully. \n \nWhether you work in the healthcare field or the business world\, whether you are self-employed or work in a large organization\, whether you are part of a family or are living alone\, finding ways to slow down and rest in the moment can be a challenge.  If you want to learn simple meditation skills to feel calm and focused where ever you are\, this 3 hour in-person retreat is for you. Taking place at the beautiful Clear Sky Meditation Center\, learn how to release tension in your system and develop calm through focused concentration.\n \nCourse Details\nWhat you can expect\nIn this course you will:\nLearn ancient and effective meditation practices that use the senses of taste\, touch\, sight and sound.  These are simple practices you can use anywhere to tune into your senses and develop Deep Mindfulness.\nMeet and practice with others who also want to learn how to stay grounded and centered in the busyness of life.\nBecome more aware of how to maintain health and wellbeing in yourself\, regardless of where you are or what you’re doing.\n\n\n \nMeet your Teachers\n\n \nMaureen Smith\nA Registered Clinical Social Worker\, Maureen has been a Mental Health and Substance Use Counsellor for over 9 years and previously worked in Hospice and Palliative Care.   She is a Mindfulness Based Stress Reduction (MBSR) facilitator and meditation teacher. \nSince 2005\, Maureen has been a resident and co-manager of the Clear Sky Retreat Center.  For over 20 years Maureen has been studying meditation and mindfulness with awakening masters Doug Duncan Sensei and Catherine Pawasarat Sensei.   Maureen gets excited finding ways to blend her spiritual and professional work life in a delicately woven tapestry.  Her life’s purpose is exploring consciousness and gaining wisdom into human nature in order to support people to grow into fully developed human beings. \nDuring her time-out relaxation moments\, Maureen enjoys gazing at the sky through leaves on tree branches\, hiking\, creating art and reading. \nDean Nicholson\nDean has a Masters in Counselling Psychology and over 35 years clinical counselling experience in health care.  Dean has facilitated hundreds of therapy groups\, is an educator and popular speaker. \nA meditation practitioner and resident at the Clear Sky Meditation Center\, Dean is a student of Doug Duncan Sensei and Catherine Pawasarat Sensei. Dean actively lives the healing practices he teaches his clients. \n \nCourse Details\n\nLocation: Clear Sky Meditation Center\nDate: April 29\, 2023\nTime: 1:30pm -4:30pm MT\nCost: $50 CAD\n\n\nRegister Now\n\n\nDean is a very skilled\, knowledgeable and interactive presenter. He delivered a two day introductory Counselling Skills Training for the Akisqnuk First Nation Health and Administrative staff which was very well received and beneficial to all participants.\nGerard GregoireAkisqnuk First Nation Health\nYou are never quite sure how the unknown is going to be\, but mindfulness will exceed your expectations and open your eyes to how beautiful the mind really is. Maureen’s warm personality and patience helped ease us into it\, especially for those of us in unfamiliar waters. Her delivery\, tone and pace were perfect for me to digest.\nGareth WebbCounsellor\, Youth Substance Use\nAs I mentioned I have some experience (but don’t have a structured daily practice except in times of Crisis). The wording that Maureen used was very clear and could easily be understood and added to my knowledge. Also she made it very easy to incorporate into everyday life. The second best thing was the profound peace that I felt by the end of the second day. I left feeling absolutely lovely and this state lasted the rest of the weekend. Thank you.\nAnn Morin MSW\, Invermere BC\nDean is a professional with an amazing ability to understand what I couldn’t. Dean never did the work for me and he always seems to know what to say to help guide me towards making up my own mind and figuring out my issues. Having Dean as a counsellor is like having a caring knowledgeable friend help you through hard times.\nPK\nI appreciated the longer meditations in all the senses.\nAlthough I have been engaged in guided meditations fairly consistently for 2 years plus; having your support really helped me to ‘stretch out’.\nDoug P.
URL:https://www.clearskycenter.org/event/come-to-your-senses-a-day-to-practice-deep-mindfulness/
CATEGORIES:Group Retreats and Courses
ATTACH;FMTTYPE=image/png:https://www.clearskycenter.org/wp-content/uploads/2021/08/Untitled-design-1.png
ORGANIZER;CN="Alive Mindfully":MAILTO:dean@alivemindfully.ca
END:VEVENT
END:VCALENDAR