BEGIN:VCALENDAR
VERSION:2.0
PRODID:-//Clear Sky Meditation Centre - ECPv6.15.19//NONSGML v1.0//EN
CALSCALE:GREGORIAN
METHOD:PUBLISH
X-ORIGINAL-URL:https://www.clearskycenter.org
X-WR-CALDESC:Events for Clear Sky Meditation Centre
REFRESH-INTERVAL;VALUE=DURATION:PT1H
X-Robots-Tag:noindex
X-PUBLISHED-TTL:PT1H
BEGIN:VTIMEZONE
TZID:America/Chicago
BEGIN:DAYLIGHT
TZOFFSETFROM:-0600
TZOFFSETTO:-0500
TZNAME:CDT
DTSTART:20210314T080000
END:DAYLIGHT
BEGIN:STANDARD
TZOFFSETFROM:-0500
TZOFFSETTO:-0600
TZNAME:CST
DTSTART:20211107T070000
END:STANDARD
BEGIN:DAYLIGHT
TZOFFSETFROM:-0600
TZOFFSETTO:-0500
TZNAME:CDT
DTSTART:20220313T080000
END:DAYLIGHT
BEGIN:STANDARD
TZOFFSETFROM:-0500
TZOFFSETTO:-0600
TZNAME:CST
DTSTART:20221106T070000
END:STANDARD
BEGIN:DAYLIGHT
TZOFFSETFROM:-0600
TZOFFSETTO:-0500
TZNAME:CDT
DTSTART:20230312T080000
END:DAYLIGHT
BEGIN:STANDARD
TZOFFSETFROM:-0500
TZOFFSETTO:-0600
TZNAME:CST
DTSTART:20231105T070000
END:STANDARD
END:VTIMEZONE
BEGIN:VEVENT
DTSTART;VALUE=DATE:20220114
DTEND;VALUE=DATE:20220117
DTSTAMP:20260421T051230
CREATED:20211119T182242Z
LAST-MODIFIED:20251208T065050Z
UID:13186-1642118400-1642377599@www.clearskycenter.org
SUMMARY:Pārami: Practices for Freedom 2022
DESCRIPTION:Weekend Retreat | Jan 14-16 2022\nHow do you act in the world with compassion\, clarity and kindness? Discover the ‘Pārami’ or ‘Pāramitas’\, ancient qualities or ‘perfections’ that open the gateway of freedom in one’s being. \n*IMPORTANT*  \n\nDue to travel restrictions\, this retreat is available In-Person at Clear Sky or Online as a Home Retreat.\nPlease consider flight insurance when booking for this retreat. We welcome you to spend additional nights at Clear Sky\, especially if traveling from afar.\n\n\n\n\nRetreat In-Person at Clear Sky (Registration Closed)\n\n\nRetreat Online\n \nCOVID-19 RESPONSE\nOur main priority is to offer a retreat that is accessible and supports your health and safety. \nWe currently intend this retreat to be offered in person assuming the January COVID situation allows people to travel. We will keep reviewing this – if travel is not possible we will offer online alternatives. \nWhy Study the Pārami?\nThe Pārami are Practices for Freedom\nWe all have habits. Habits are comfortable! We do them every day\, usually on auto-pilot. The difficulty with habits is that we’re not present. True freedom and well-being come from the degree to which we are present in each moment. By practicing the Pārami\, or the ‘Perfections’\, we can experience new ways of engaging with the present moment that bring greater awareness and clarity. This interrupts our habits\, which tend to be self-focused and unconscious. \nWhen practiced in earnest and with curiosity\, we learn to apply the perfections in more and more situations. Over time\, our experience of them deepens and we grow into richer states of freedom. The pārami serve us well for our entire lifetime\, and beyond. \nWhat Will I Learn?\nIn this course we will study the Six Pārami of Mahayana Buddhism. \nThere are countless translations of the Paramis\, and they can be practiced in any order: \n\nGenerosity (Dāna)\nEthics (Śīla)\nPatience (Kṣānti)\nEffort (Vīrya)\nConcentration (Dhyāna)\nWisdom and Insight (Prajñā)\n\n\n \nMeet the Teacher\n \nCatherine Pawasarat Sensei\nCatherine Pawasarat Sensei is a contemporary Dharma teacher\, attendant\, consort\, co-teacher via Planet Dharma and co-founder of Clear Sky Retreat Center. \nShe has trained daily with Acariya Doug Duncan since 1998 in an intensive spiritual apprenticeship that is rare in the modern West. She received lay ordination from Namgyal Rinpoche in 2003. In addition to Buddhist philosophy and its applications to daily life\, Catherine also draws on generative living and the arts. \nMore About Sensei | About the Lineage \nCourse Details\nTime and Location \nIt is possible to attend the course in these ways: \n\nOnline Retreat\nIn-Person Retreat at Clear Sky\n\nEach of the classes in this retreat will be held live at Clear Sky Meditation Centre. There will also be a video streamed live for online participants.   The current class schedule is as follows. \n\nFriday Jan 14th: 7pm MST\nSaturday Jan 15th: 8am MST\, 2pm MST\, 7pm MST\nSunday Jan 16th: 8am MST\, 2pm MST\n\nWe have arranged class times to be comfortable for most time zones. However we understand that some class times might occur after midnight in some regions\, so please contact us if that is the case for you\, and we will provide a recording so you can catch up on that particular class. \nWhat Does the Course Cost? \nThis course is offered based on the unique combination of 1) dāna and 2) a course/administrative fee. For online participants the Online Admin fee is $100 USD. Click here to learn more about dāna\, and see below to learn more about the admin fee. Accommodation and meal fees are separate if retreating at Clear Sky Center. \nAbout the Online Admin Fee \nIn a traditional model of in-person teachings\, a retreat center or urban meditation center invites teachers to visit. In these cases the centers have infrastructure and organization costs to cover\, which might be covered by an admin fee. For the teaching itself\, dāna to the teachers is offered in a bowl. This honors both the sustainability of the teachers\, and of the supporting center. \nWe’ve tried to recreate this approach online. The teachers’ time and the teaching themselves are offered on the basis of dāna\, separate to the admin fee. With our dāna offering we are making a direct gift of generosity to the teachers to support their teachings and livelihood. \nThe admin fee* goes to support the infrastructure and organization necessary to support them to teach. As anyone with an online business will know\, it can be surprising the costs of setting up a good infrastructure to support effective teaching and connection online. \n*We also do not wish to exclude anyone from the Teachings\, so if you are not currently in a financial position to afford the admin fee\, please contact the course Registrar via registrar@planetdharma.com so we can support you to attend. \n— \nBelow are a few of the work and benefits that your admin fee payment is supporting: \n\nhigh speed internet (to allow interviews and classes on-line)\nonline class systems (Zoom)\nregistration / admin systems (Eventbrite\, Basecamp)\ncommunication systems to keep everyone informed\, share connection details\, teachings and other resources (Mailchimp)\nonline storage (for example\, Dropbox\, to allow us to let students watch recordings\, and to store and share selected teachings in other forms such as podcasts and video later\, and Amazon cloud)\nquality sound\, video and editing equipment (both for live teachings and to provide good enough quality for later sharing as podcasts and video). We are regularly updating our equipment to improve your user experience.\nonline calendar booking system to allow students to book interviews\nwebsite hosting and maintenance for sharing upcoming courses\, teachings\, blogs and other resources.\n\nWe welcome any questions. May all our efforts be sustainable\, abundant and for the benefit of all beings!coure \n \nWhy Retreat In-Person? \nRetreating in person at a retreat center is the best way to retreat – why? \n\nYou can’t beat live interaction with the course Teachers. Being in the same space with clear beings ‘tunes’ you to more wholesome states.\nWe create a welcoming environment and follow a supportive retreat schedule\, based on decades of hosting successful retreats worldwide.\nWholesome and delicious food is provided so you don’t have to spend time cooking for yourself.\nBreath-taking and restful\, natural environment puts your body and mind at ease and resets your nervous system.\nRetreating at our center gets you out of your usual home environment and routines – they can be distracting.\nRetreating with others (your co-retreatants) is incredibly supportive and energy building.\n\nAnd\, we work hard to support the online retreat experience. \n\nWe have been delivering online offerings since 2014\, always optimizing your experience.\nYou will be provided with recommendations for making your retreat supportive and generative at home\, where there are usually many distractions.\nClasses are live-streamed with recordings available for a certain time.\nGroup sits with your co-retreatants are streamed to support your practice routine.\nHD cameras providing high quality streamed video.\nProfessional audio equipment providing you better sound.\n\n\nRetreat In-Person at Clear Sky (Registration Closed)\n\n\nRetreat Online\n \nAbout Clear Sky\nLocated in the BC rocky mountains\, we offer over 300-acres to deepen your practice and reconnect with nature. Founded by Doug Duncan and Catherine Pawasarat\, we are home to students from around the globe who are dedicated to co-creating a supportive and innovative space for awakening in our modern world. \nHere are some FAQs on how to get here\, what to bring and what to expect.  \nTo help you get acquainted with us\, some community members made this short video during our 2019 Buddhas in Action retreat. To learn more about us and our incredible community\, click here! \n\n\n \nFAQs\nDana and In-Person Retreat Pricing \nDana: This course is offered by Catherine Sensei through the ancient principle of generosity\, or Dāna. The retreat fee covers the cost of food and accommodation\, whereas the Teachings are offered by generosity. Learn more about Dāna here. \nPricing: As a charitable organization\, we strive to provide locally sourced organic meals and comfortable accommodations at an affordable price. Fees vary depending on your accommodation choice and early bird pricing. \nCOVID-19 Policy \nA Note on Covid-19 Regulations in Canada\nOur retreats comply with current BC Covid-19 Health Orders.  Please refer to those provincial guidelines as well as the Canadian federal travel guidelines\, especially if you are planning to travel to Clear Sky Center in person. \nArrival & Departure \nArrival is Friday\, January 14 at 4pm. We highly recommend arriving a few days earlier if you are traveling from abroad. \nDeparture is Sunday\, January 16 after dinner. \nBooking a Flight? \nAirport pickups can be booked when you register for the retreat. On the rare chance that this retreat is cancelled\, we highly recommend purchasing travel insurance. \nIn order to give enough time to rest from travel before the retreat starts\, we recommend that domestic travellers arrive one day early\, and long distance international travellers arrive two days early. \nAfter the retreat we also suggest staying for at least another day for integration. \nTravel Restrictions\, COVID-19 Policy: Please contact us – Email michelle@clearskycenter.org or (250) 429-3929 for details/options for local participation. \n\nRetreat In-Person at Clear Sky (Registration Closed)\n\n\nRetreat Online
URL:https://www.clearskycenter.org/event/parami-practices-for-freedom/
CATEGORIES:Group Retreats and Courses,Online Courses
ATTACH;FMTTYPE=image/jpeg:https://www.clearskycenter.org/wp-content/uploads/2021/11/scales-1.jpeg
END:VEVENT
END:VCALENDAR